BEGIN:VCALENDAR
VERSION:2.0
PRODID:EVENTFROG//EVENT//ICAL
BEGIN:VEVENT
UID:20260425T170233Z-7452624147639738703@eventfrog.ch
DTSTAMP:20260425T170233Z
DTSTART:20260508T160000Z
DTEND:20260627T120000Z
SUMMARY:Kunstausstellung: Silvia Stucki
DESCRIPTION:Die Bilder von Silvia Stucki entstehen aus vielen Schichten und Materialien und zeigen Zerbrechlichkeit sowie Schönheit im Unvollkommenen.\n\nhttps://eventfrog.ch/de/p/kunst-ausstellungen/ausstellung/kunstausstellung-silvia-stucki-7452624147639738703.html
LOCATION:Hotel Seepark Thun
GEO:46.745151;7.633236
URL:https://eventfrog.ch/de/p/kunst-ausstellungen/ausstellung/kunstausstellung-silvia-stucki-7452624147639738703.html
END:VEVENT
END:VCALENDAR