BEGIN:VCALENDAR
VERSION:2.0
PRODID:EVENTFROG//EVENT//ICAL
BEGIN:VEVENT
UID:20260424T075630Z-7452637867925309766@eventfrog.ch
DTSTAMP:20260424T075630Z
DTSTART:20260507T160000Z
DTEND:20260705T150000Z
SUMMARY:Not Not Utopia
DESCRIPTION:Not Not Utopia\n\nhttps://eventfrog.ch/de/p/kunst-ausstellungen/ausstellung/not-not-utopia-7452637867925309766.html
LOCATION:oxyd – Kunsträume
GEO:47.498011;8.722655
URL:https://eventfrog.ch/de/p/kunst-ausstellungen/ausstellung/not-not-utopia-7452637867925309766.html
END:VEVENT
END:VCALENDAR