BEGIN:VCALENDAR
VERSION:2.0
PRODID:EVENTFROG//EVENT//ICAL
BEGIN:VEVENT
UID:20260424T065310Z-7452640200830755788@eventfrog.ch
DTSTAMP:20260424T065310Z
DTSTART:20260523T210000Z
DTEND:20260524T020000Z
SUMMARY:Ü18 * ROMPE * is Back Tequila Boom Show AURA Club
DESCRIPTION:Am Samstag, den 23. Mai, kehrt die legendäre ROMPE-Party ins AURA Club zurück, um deinen Durst zu stillen… mit purem Flow und jeder Menge Tequila Boom!\n\nhttps://eventfrog.ch/en/p/parties/latin-brasil/ue18-rompe-is-back-tequila-boom-show-aura-club-7452640200830755788.html
LOCATION:AURA Club Zürich
GEO:47.368663;8.537953
URL:https://eventfrog.ch/en/p/parties/latin-brasil/ue18-rompe-is-back-tequila-boom-show-aura-club-7452640200830755788.html
END:VEVENT
END:VCALENDAR