BEGIN:VCALENDAR
VERSION:2.0
PRODID:EVENTFROG//EVENT//ICAL
BEGIN:VEVENT
UID:20260425T210111Z-7452644072890599547@eventfrog.ch
DTSTAMP:20260425T210111Z
DTSTART:20260927T100000Z
DTEND:20260927T203000Z
SUMMARY:Dinner in the Sky Düsseldorf
DESCRIPTION:Dinner in the Sky serviert exklusive Gerichte in 50 m Höhe mit spektakulärem Panorama über Köln, Düsseldorf und Hamburg.\n\nhttps://eventfrog.ch/de/p/essen-trinken/dinner-in-the-sky-duesseldorf-7452644072890599547.html
LOCATION:Hansaallee 313
GEO:51.244464;6.716604
URL:https://eventfrog.ch/de/p/essen-trinken/dinner-in-the-sky-duesseldorf-7452644072890599547.html
END:VEVENT
END:VCALENDAR