BEGIN:VCALENDAR
VERSION:2.0
PRODID:EVENTFROG//EVENT//ICAL
BEGIN:VEVENT
UID:20260424T073659Z-7452663808265295570@eventfrog.ch
DTSTAMP:20260424T073659Z
DTSTART:20260509T120000Z
SUMMARY:Es gibt mehr als nur eine Zukunft
DESCRIPTION:Workshop gegen die Hoffnungslosigkeit: Utopie als Praxis.\n\nhttps://eventfrog.ch/de/p/kurse-seminare/sonstige-kurse-seminare/es-gibt-mehr-als-nur-eine-zukunft-7452663808265295570.html
LOCATION:Karl der Grosse - Erkerzimmer
GEO:47.370552;8.545169
URL:https://eventfrog.ch/de/p/kurse-seminare/sonstige-kurse-seminare/es-gibt-mehr-als-nur-eine-zukunft-7452663808265295570.html
END:VEVENT
END:VCALENDAR