BEGIN:VCALENDAR
VERSION:2.0
PRODID:EVENTFROG//EVENT//ICAL
BEGIN:VEVENT
UID:20260424T073658Z-7452664940396025339@eventfrog.ch
DTSTAMP:20260424T073658Z
DTSTART:20260511T163000Z
SUMMARY:Empathie und Konfliktlösung
DESCRIPTION:Grundlagenkurs mit Empathie Stadt Zürich. Eintritt frei, mit Anmeldung per Mail.\n\nhttps://eventfrog.ch/de/p/kurse-seminare/sonstige-kurse-seminare/empathie-und-konfliktloesung-7452664940396025339.html
LOCATION:Karl der Grosse - Saal
GEO:47.370552;8.545169
URL:https://eventfrog.ch/de/p/kurse-seminare/sonstige-kurse-seminare/empathie-und-konfliktloesung-7452664940396025339.html
END:VEVENT
END:VCALENDAR