BEGIN:VCALENDAR
VERSION:2.0
PRODID:EVENTFROG//EVENT//ICAL
BEGIN:VEVENT
UID:20260424T081820Z-7452670850233328219@eventfrog.ch
DTSTAMP:20260424T081820Z
DTSTART:20260429T160000Z
DTEND:20260429T190000Z
SUMMARY:Everybody Networks Here Zurich: Grow & Connect #2
DESCRIPTION:Connecting People, Creating Opportunities  Everybody Networks Here creates international, high-impact, low-pressure networking events & workshops that make it easy for professionals to connect.\n\nhttps://eventfrog.ch/en/p/politics-community/community/everybody-networks-here-zurich-grow-connect-2-7452670850233328219.html
LOCATION:Coworking Lounge Tessinerplatz
GEO:47.363722;8.532106
URL:https://eventfrog.ch/en/p/politics-community/community/everybody-networks-here-zurich-grow-connect-2-7452670850233328219.html
END:VEVENT
END:VCALENDAR