BEGIN:VCALENDAR
VERSION:2.0
PRODID:EVENTFROG//EVENT//ICAL
BEGIN:VEVENT
UID:20260424T073659Z-7452689648067859409@eventfrog.ch
DTSTAMP:20260424T073659Z
DTSTART:20260623T180000Z
DTEND:20260623T193000Z
SUMMARY:Cosmos Club Spezial "Im Schatten des Mondes" mit Thomas Baer
DESCRIPTION:Thomas Baer zeigt die Faszination von Europas Sonnenfinsternissen bis 2030, mit dem Höhepunkt der 90%-Bedeckung 2026 in der Schweiz.\n\nhttps://eventfrog.ch/de/p/fuehrungen-vortraege/vortrag/cosmos-club-spezial-im-schatten-des-mondes-mit-thomas-baer-7452689648067859409.html
LOCATION:Raumschiff - Werkstatt für Astronomie
GEO:47.403529;8.605113
URL:https://eventfrog.ch/de/p/fuehrungen-vortraege/vortrag/cosmos-club-spezial-im-schatten-des-mondes-mit-thomas-baer-7452689648067859409.html
END:VEVENT
END:VCALENDAR