BEGIN:VCALENDAR
VERSION:2.0
PRODID:EVENTFROG//EVENT//ICAL
BEGIN:VEVENT
UID:20260425T191733Z-7452703284014361558@eventfrog.ch
DTSTAMP:20260425T191733Z
DTSTART:20260715T143000Z
SUMMARY:Zirkus Chnopf - UFE
DESCRIPTION:UFE ist die neuste Produktion vom Zirkus Chnopf mit 5 Profis und 5 Jugendlichen und jungen Artist:innen zwischen 14 und 23 - unter freiem Himmel.\n\nhttps://eventfrog.ch/de/p/musicals-shows/zirkus/zirkus-chnopf-ufe-7452703284014361558.html
LOCATION:Neptunwiese
GEO:47.134696;7.231922
URL:https://eventfrog.ch/de/p/musicals-shows/zirkus/zirkus-chnopf-ufe-7452703284014361558.html
END:VEVENT
END:VCALENDAR