BEGIN:VCALENDAR
VERSION:2.0
PRODID:EVENTFROG//EVENT//ICAL
BEGIN:VEVENT
UID:20260424T081830Z-7452704988684393000@eventfrog.ch
DTSTAMP:20260424T081830Z
DTSTART:20260522T160000Z
DTEND:20260524T180000Z
SUMMARY:Festival Mai au Parc
DESCRIPTION:Du 22 au 24 mai 2026, le Parc Bernasconi vibrera au rythme de la 26e édition de Mai au Parc. Gratuit et convivial, le festival lance la saison des open-airs genevois avec une programmation audacieuse!\n\nhttps://eventfrog.ch/fr/p/festivals/art-culture/festival-mai-au-parc-7452704988684393000.html
LOCATION:Parc Alphonse Bernasconi
GEO:46.187648;6.123319
URL:https://eventfrog.ch/fr/p/festivals/art-culture/festival-mai-au-parc-7452704988684393000.html
END:VEVENT
END:VCALENDAR