BEGIN:VCALENDAR
VERSION:2.0
PRODID:EVENTFROG//EVENT//ICAL
BEGIN:VEVENT
UID:20260424T163905Z-7452732766406337680@eventfrog.ch
DTSTAMP:20260424T163905Z
DTSTART:20260515T120000Z
DTEND:20260517T100000Z
SUMMARY:Innere Ruhe & mentale Ausgeglichenheit - Frauenwochenende
DESCRIPTION:3 Tage Yoga und Meditation in Kleingruppe am Zürichsee schenken Frauen ganzheitliche Erholung, Ruhe und innere Kraft in der Natur.\n\nhttps://eventfrog.ch/de/p/gesundheit-spiritualitaet/gesundheit-wohlbefinden/innere-ruhe-mentale-ausgeglichenheit-frauenwochenende-7452732766406337680.html
LOCATION:Rapperswil-Jona
GEO:47.220655;8.865922
URL:https://eventfrog.ch/de/p/gesundheit-spiritualitaet/gesundheit-wohlbefinden/innere-ruhe-mentale-ausgeglichenheit-frauenwochenende-7452732766406337680.html
END:VEVENT
END:VCALENDAR