BEGIN:VCALENDAR
VERSION:2.0
PRODID:EVENTFROG//EVENT//ICAL
BEGIN:VEVENT
UID:20260424T081825Z-7452741393657684599@eventfrog.ch
DTSTAMP:20260424T081825Z
DTSTART:20260507T120000Z
DTEND:20260507T133000Z
SUMMARY:amm Café Med Winterthur
DESCRIPTION:Unentgeltliche Auskunft in Café-Atmosphäre durch pensionierte Fachärzt*Innen. Entscheidungshilfe zu Behandlungsoptionen und allgemeine medizinische Fragen.  \n\nhttps://eventfrog.ch/de/p/gesundheit-spiritualitaet/gesundheit-wohlbefinden/amm-cafe-med-winterthur-7452741393657684599.html
LOCATION:Restaurant Neumarkt, Neumarkt 6, Winterthur
GEO:47.498654;8.726899
URL:https://eventfrog.ch/de/p/gesundheit-spiritualitaet/gesundheit-wohlbefinden/amm-cafe-med-winterthur-7452741393657684599.html
END:VEVENT
END:VCALENDAR