BEGIN:VCALENDAR
VERSION:2.0
PRODID:EVENTFROG//EVENT//ICAL
BEGIN:VEVENT
UID:20260424T075557Z-7452769279898870690@eventfrog.ch
DTSTAMP:20260424T075557Z
DTSTART:20260618T183000Z
SUMMARY:Piromata Ambient-Jazz Quartett
DESCRIPTION:Ein neues Basler Quartett im Bereich von Ambient-Jazz, Ethno-Rock, Trance-Grooves und Experimental. Harmonisch und melodiös fliessende Soundscapes treffen auf komplexe Strukturen und Rhythmen. \n\nhttps://eventfrog.ch/de/p/konzerte/jazz-blues/piromata-ambient-jazz-quartett-7452769279898870690.html
LOCATION:kleiner Wassermann
GEO:47.567977;7.581485
URL:https://eventfrog.ch/de/p/konzerte/jazz-blues/piromata-ambient-jazz-quartett-7452769279898870690.html
END:VEVENT
END:VCALENDAR