BEGIN:VCALENDAR
VERSION:2.0
PRODID:EVENTFROG//EVENT//ICAL
BEGIN:VEVENT
UID:20260424T075630Z-7452770316915324664@eventfrog.ch
DTSTAMP:20260424T075630Z
DTSTART:20260510T080000Z
DTEND:20260510T103000Z
SUMMARY:bettertogether – Begegnungen mit der Lebensfreude!
DESCRIPTION:Belebter Körper, befreite Stimme, friedvoller Geist.  Bewege mit uns den Körper, entdecke die heilsame Kraft der Stimme und die erhebende Wirkung von meditativen Ritualen.\n\nhttps://eventfrog.ch/de/p/gesundheit-spiritualitaet/gesundheit-wohlbefinden/bettertogether-begegnungen-mit-der-lebensfreude-7452770316915324664.html
LOCATION:Aurum Raum für Yoga
GEO:47.388468;8.042220
URL:https://eventfrog.ch/de/p/gesundheit-spiritualitaet/gesundheit-wohlbefinden/bettertogether-begegnungen-mit-der-lebensfreude-7452770316915324664.html
END:VEVENT
END:VCALENDAR