BEGIN:VCALENDAR
VERSION:2.0
PRODID:EVENTFROG//EVENT//ICAL
BEGIN:VEVENT
UID:20260425T124814Z-7452776852760864217@eventfrog.ch
DTSTAMP:20260425T124814Z
DTSTART:20260514T170000Z
DTEND:20260514T204500Z
SUMMARY:ZtanZ Basel  SOMMERCASINO
DESCRIPTION:ZtanZ lädt im Sommercasino Basel zu Conscious Rave mit Opening & Closing Journey, DJs, Live-Percussion, Buffet und Marktstände von 19:00 bis 22:45 Uhr ein.\n\nhttps://eventfrog.ch/de/p/partys/trance-ambient/ztanz-basel-sommercasino-7452776852760864217.html
LOCATION:ZtanZ Basel  Sommercasino
GEO:47.547443;7.598570
URL:https://eventfrog.ch/de/p/partys/trance-ambient/ztanz-basel-sommercasino-7452776852760864217.html
END:VEVENT
END:VCALENDAR