BEGIN:VCALENDAR
VERSION:2.0
PRODID:EVENTFROG//EVENT//ICAL
BEGIN:VEVENT
UID:20260424T075635Z-7452833784385251860@eventfrog.ch
DTSTAMP:20260424T075635Z
DTSTART:20260618T190000Z
SUMMARY:WM Public Viewing: Schweiz vs. Bosnien-Herzegowina
DESCRIPTION:WM Public Viewing der Schweizer Nati live im Bredella Village in Pratteln.\n\nhttps://eventfrog.ch/de/p/essen-trinken/wm-public-viewing-schweiz-vs-bosnien-herzegowina-7452833784385251860.html
LOCATION:Bredella Village Pratteln
GEO:47.523460;7.690103
URL:https://eventfrog.ch/de/p/essen-trinken/wm-public-viewing-schweiz-vs-bosnien-herzegowina-7452833784385251860.html
END:VEVENT
END:VCALENDAR