BEGIN:VCALENDAR
VERSION:2.0
PRODID:EVENTFROG//EVENT//ICAL
BEGIN:VEVENT
UID:20260425T162020Z-7452866183114537264@eventfrog.ch
DTSTAMP:20260425T162020Z
DTSTART:20260504T160000Z
DTEND:20260504T173000Z
SUMMARY:Floor Barre Workshop nach Yasna Stevovich
DESCRIPTION:Der Workshop mit Yasna Stevovich️ stärkt Kraft, Technik und Körperbewusstsein für Tänzerinnen und Tänzer aller Niveaus.\n\nhttps://eventfrog.ch/de/p/sport-fitness/tanzsport/floor-barre-workshop-nach-yasna-stevovich-7452866183114537264.html
LOCATION:Tanzzentrale der Region Nürnberg e.V.
GEO:49.466218;11.002199
URL:https://eventfrog.ch/de/p/sport-fitness/tanzsport/floor-barre-workshop-nach-yasna-stevovich-7452866183114537264.html
END:VEVENT
END:VCALENDAR