BEGIN:VCALENDAR
VERSION:2.0
PRODID:EVENTFROG//EVENT//ICAL
BEGIN:VEVENT
UID:20260424T072131Z-7452876775959328607@eventfrog.ch
DTSTAMP:20260424T072131Z
DTSTART:20260501T173000Z
DTEND:20260501T190000Z
SUMMARY:Vollmondnacht
DESCRIPTION:Das Trio «Meliora» spielt französische Chansons und Musette in der Pfarrei Peter und Paul, Aarau, am 1. Mai, 19.30 Uhr.\n\nhttps://eventfrog.ch/de/p/konzerte/weitere-musikrichtungen/vollmondnacht-7452876775959328607.html
LOCATION:Katholische Kirche Aarau
GEO:47.392986;8.050366
URL:https://eventfrog.ch/de/p/konzerte/weitere-musikrichtungen/vollmondnacht-7452876775959328607.html
END:VEVENT
END:VCALENDAR