BEGIN:VCALENDAR
VERSION:2.0
PRODID:EVENTFROG//EVENT//ICAL
BEGIN:VEVENT
UID:20260425T023012Z-7452938392759742297@eventfrog.ch
DTSTAMP:20260425T023012Z
DTSTART:20260521T163000Z
DTEND:20260521T200000Z
SUMMARY:Wyschywanka - Ukrainischer Kulturtag
DESCRIPTION:Begegnungsabend mit Konzert und ukrainischen Spezialitäten. Musikschule Region Flughafen MRF / Oelena Tytko / Ensemble SPIVOCHI / Tanzkollektiv GOLUBKA / sowie ELBA Band aus Hamburg\n\nhttps://eventfrog.ch/de/p/konzerte/weitere-musikrichtungen/wyschywanka-ukrainischer-kulturtag-7452938392759742297.html
LOCATION:Kirchgemeindesaal, Ref. Kirche Kloten
GEO:47.452594;8.584066
URL:https://eventfrog.ch/de/p/konzerte/weitere-musikrichtungen/wyschywanka-ukrainischer-kulturtag-7452938392759742297.html
END:VEVENT
END:VCALENDAR