BEGIN:VCALENDAR
VERSION:2.0
PRODID:EVENTFROG//EVENT//ICAL
BEGIN:VEVENT
UID:20260426T004209Z-7452951227447440264@eventfrog.ch
DTSTAMP:20260426T004209Z
DTSTART:20260502T083000Z
DTEND:20260502T163000Z
SUMMARY:be mAI friend
DESCRIPTION:Im Humboldt Forum erlebt man «AFFEKTATOR 3000», einen KI-Chatbot, der in interaktiven Gesprächen Nähe und Einsamkeit thematisiert.\n\nhttps://eventfrog.ch/de/p/diverses/be-mai-friend-7452951227447440264.html
LOCATION:Humboldt Forum
GEO:52.517275;13.401640
URL:https://eventfrog.ch/de/p/diverses/be-mai-friend-7452951227447440264.html
END:VEVENT
END:VCALENDAR