BEGIN:VCALENDAR
VERSION:2.0
PRODID:EVENTFROG//EVENT//ICAL
BEGIN:VEVENT
UID:20260425T155831Z-7452959955198473754@eventfrog.ch
DTSTAMP:20260425T155831Z
DTSTART:20260608T173000Z
SUMMARY:Sommerständli Jodelduett Amato
DESCRIPTION:Sommerabend auf unserer Terrasse mit musikalischer Unterhaltung durch das Jodelduett Amato\n\nhttps://eventfrog.ch/de/p/konzerte/weitere-musikrichtungen/sommerstaendli-jodelduett-amato-7452959955198473754.html
LOCATION:Gasthof Sternen
GEO:47.002576;7.270245
URL:https://eventfrog.ch/de/p/konzerte/weitere-musikrichtungen/sommerstaendli-jodelduett-amato-7452959955198473754.html
END:VEVENT
END:VCALENDAR