BEGIN:VCALENDAR
VERSION:2.0
PRODID:EVENTFROG//EVENT//ICAL
BEGIN:VEVENT
UID:20260425T155830Z-7452960294475667775@eventfrog.ch
DTSTAMP:20260425T155830Z
DTSTART:20260813T173000Z
SUMMARY:Sommerständli mit Kapelle Hägere
DESCRIPTION:Sommerabend auf unserer Terrasse mit musikalischer Unterhaltung mit der Kapelle Hägere\n\nhttps://eventfrog.ch/de/p/konzerte/weitere-musikrichtungen/sommerstaendli-mit-kapelle-haegere-7452960294475667775.html
LOCATION:Gasthof Sternen
GEO:47.002141;7.270671
URL:https://eventfrog.ch/de/p/konzerte/weitere-musikrichtungen/sommerstaendli-mit-kapelle-haegere-7452960294475667775.html
END:VEVENT
END:VCALENDAR