BEGIN:VCALENDAR
VERSION:2.0
PRODID:EVENTFROG//EVENT//ICAL
BEGIN:VEVENT
UID:20260425T155831Z-7452960675633072022@eventfrog.ch
DTSTAMP:20260425T155831Z
DTSTART:20260831T170000Z
SUMMARY:Sommerständli mit Sächsegg
DESCRIPTION:Sommerabend auf unserer Terrasse mit musikalischer Unterhaltung mit Sächsegg\n\nhttps://eventfrog.ch/de/p/konzerte/weitere-musikrichtungen/sommerstaendli-mit-saechsegg-7452960675633072022.html
LOCATION:Gasthof Sternen
GEO:47.002141;7.270671
URL:https://eventfrog.ch/de/p/konzerte/weitere-musikrichtungen/sommerstaendli-mit-saechsegg-7452960675633072022.html
END:VEVENT
END:VCALENDAR