BEGIN:VCALENDAR
VERSION:2.0
PRODID:EVENTFROG//EVENT//ICAL
BEGIN:VEVENT
UID:20260425T155832Z-7452960868613007674@eventfrog.ch
DTSTAMP:20260425T155832Z
DTSTART:20260702T170000Z
SUMMARY:Sommerständli mit dem Duo TromPan
DESCRIPTION:Sommerabend auf unserer Terrasse mit musikalischer Unterhaltung mit dem Duo TromPan\n\nhttps://eventfrog.ch/de/p/konzerte/weitere-musikrichtungen/sommerstaendli-mit-dem-duo-trompan-7452960868613007674.html
LOCATION:Gasthof Sternen
GEO:47.002141;7.270671
URL:https://eventfrog.ch/de/p/konzerte/weitere-musikrichtungen/sommerstaendli-mit-dem-duo-trompan-7452960868613007674.html
END:VEVENT
END:VCALENDAR