BEGIN:VCALENDAR
VERSION:2.0
PRODID:EVENTFROG//EVENT//ICAL
BEGIN:VEVENT
UID:20260425T155832Z-7452961289356238635@eventfrog.ch
DTSTAMP:20260425T155832Z
DTSTART:20260614T160000Z
SUMMARY:Sommerständli mit der Panflötengruppe Thun & Seeland
DESCRIPTION:Sommerabend auf unserer Terrasse mit musikalischer Unterhaltung mit der Panflötengruppe Thun & Seeland\n\nhttps://eventfrog.ch/de/p/konzerte/weitere-musikrichtungen/sommerstaendli-mit-der-panfloetengruppe-thun-seeland-7452961289356238635.html
LOCATION:Gasthof Sternen
GEO:47.002141;7.270671
URL:https://eventfrog.ch/de/p/konzerte/weitere-musikrichtungen/sommerstaendli-mit-der-panfloetengruppe-thun-seeland-7452961289356238635.html
END:VEVENT
END:VCALENDAR