BEGIN:VCALENDAR
VERSION:2.0
PRODID:EVENTFROG//EVENT//ICAL
BEGIN:VEVENT
UID:20260424T075641Z-7452961769281033332@eventfrog.ch
DTSTAMP:20260424T075641Z
DTSTART:20260604T173000Z
SUMMARY:Sommerständli mit dem Männerchor Detligen
DESCRIPTION:Sommerabend auf unserer Terrasse mit musikalischer Unterhaltung mit dem Männerchor Detligen\n\nhttps://eventfrog.ch/de/p/konzerte/chor/sommerstaendli-mit-dem-maennerchor-detligen-7452961769281033332.html
LOCATION:Gasthof Sternen
GEO:47.002141;7.270671
URL:https://eventfrog.ch/de/p/konzerte/chor/sommerstaendli-mit-dem-maennerchor-detligen-7452961769281033332.html
END:VEVENT
END:VCALENDAR