BEGIN:VCALENDAR
VERSION:2.0
PRODID:EVENTFROG//EVENT//ICAL
BEGIN:VEVENT
UID:20260425T155832Z-7452962915508866035@eventfrog.ch
DTSTAMP:20260425T155832Z
DTSTART:20260709T170000Z
SUMMARY:Sommerständli mit Echo vom Chuderhüsi
DESCRIPTION:Sommerabend auf unserer Terrasse mit musikalischer Unterhaltung mit Echo vom Chuderhüsi\n\nhttps://eventfrog.ch/de/p/konzerte/weitere-musikrichtungen/sommerstaendli-mit-echo-vom-chuderhuesi-7452962915508866035.html
LOCATION:Gasthof Sternen
GEO:47.002576;7.270245
URL:https://eventfrog.ch/de/p/konzerte/weitere-musikrichtungen/sommerstaendli-mit-echo-vom-chuderhuesi-7452962915508866035.html
END:VEVENT
END:VCALENDAR