BEGIN:VCALENDAR
VERSION:2.0
PRODID:EVENTFROG//EVENT//ICAL
BEGIN:VEVENT
UID:20260424T063133Z-7452964944654426357@eventfrog.ch
DTSTAMP:20260424T063133Z
DTSTART:20260504T170000Z
SUMMARY:Sommerständli mit den Moosseespatzen
DESCRIPTION:Sommerabend auf unserer Terrasse mit musikalischer Unterhaltung mit den Moosseespatzen\n\nhttps://eventfrog.ch/de/p/konzerte/chor/sommerstaendli-mit-den-moosseespatzen-7452964944654426357.html
LOCATION:Gasthof Sternen
GEO:47.002141;7.270671
URL:https://eventfrog.ch/de/p/konzerte/chor/sommerstaendli-mit-den-moosseespatzen-7452964944654426357.html
END:VEVENT
END:VCALENDAR