BEGIN:VCALENDAR
VERSION:2.0
PRODID:EVENTFROG//EVENT//ICAL
BEGIN:VEVENT
UID:20260425T155830Z-7452968909395775749@eventfrog.ch
DTSTAMP:20260425T155830Z
DTSTART:20260803T170000Z
SUMMARY:Sommerständli mit der Steelband Steelfever
DESCRIPTION:Sommerabend auf unserer Terrasse mit musikalischer Unterhaltung mit der Steelband Steelfever\n\nhttps://eventfrog.ch/de/p/konzerte/weitere-musikrichtungen/sommerstaendli-mit-der-steelband-steelfever-7452968909395775749.html
LOCATION:Gasthof Sternen
GEO:47.002141;7.270671
URL:https://eventfrog.ch/de/p/konzerte/weitere-musikrichtungen/sommerstaendli-mit-der-steelband-steelfever-7452968909395775749.html
END:VEVENT
END:VCALENDAR