BEGIN:VCALENDAR
VERSION:2.0
PRODID:EVENTFROG//EVENT//ICAL
BEGIN:VEVENT
UID:20260425T155828Z-7452971803012554299@eventfrog.ch
DTSTAMP:20260425T155828Z
DTSTART:20260528T170000Z
SUMMARY:Sommerständli mit der Familie Maurer
DESCRIPTION:Sommerabend auf unserer Terrasse mit musikalischer Unterhaltung mit der Familie Maurer\n\nhttps://eventfrog.ch/de/p/konzerte/weitere-musikrichtungen/sommerstaendli-mit-der-familie-maurer-7452971803012554299.html
LOCATION:Gasthof Sternen
GEO:47.002141;7.270671
URL:https://eventfrog.ch/de/p/konzerte/weitere-musikrichtungen/sommerstaendli-mit-der-familie-maurer-7452971803012554299.html
END:VEVENT
END:VCALENDAR