BEGIN:VCALENDAR
VERSION:2.0
PRODID:EVENTFROG//EVENT//ICAL
BEGIN:VEVENT
UID:20260425T155831Z-7452972188062197940@eventfrog.ch
DTSTAMP:20260425T155831Z
DTSTART:20260601T170000Z
SUMMARY:Sommerständli mit Schwizerörgelifründe Hogergruess
DESCRIPTION:Sommerabend auf unserer Terrasse mit musikalischer Unterhaltung mit den Schwizerörgelifründe Hogergruess\n\nhttps://eventfrog.ch/de/p/konzerte/weitere-musikrichtungen/sommerstaendli-mit-schwizeroergelifruende-hogergruess-7452972188062197940.html
LOCATION:Gasthof Sternen
GEO:47.002141;7.270671
URL:https://eventfrog.ch/de/p/konzerte/weitere-musikrichtungen/sommerstaendli-mit-schwizeroergelifruende-hogergruess-7452972188062197940.html
END:VEVENT
END:VCALENDAR