BEGIN:VCALENDAR
VERSION:2.0
PRODID:EVENTFROG//EVENT//ICAL
BEGIN:VEVENT
UID:20260425T155829Z-7452973960935794309@eventfrog.ch
DTSTAMP:20260425T155829Z
DTSTART:20260730T170000Z
SUMMARY:Sommerständli mit dem Männerchor Radelfingen
DESCRIPTION:Sommerabend auf unserer Terrasse mit musikalischer Unterhaltung mit dem Männerchor Detligen\n\nhttps://eventfrog.ch/de/p/konzerte/weitere-musikrichtungen/sommerstaendli-mit-dem-maennerchor-radelfingen-7452973960935794309.html
LOCATION:Gasthof Sternen
GEO:47.002141;7.270671
URL:https://eventfrog.ch/de/p/konzerte/weitere-musikrichtungen/sommerstaendli-mit-dem-maennerchor-radelfingen-7452973960935794309.html
END:VEVENT
END:VCALENDAR