BEGIN:VCALENDAR
VERSION:2.0
PRODID:EVENTFROG//EVENT//ICAL
BEGIN:VEVENT
UID:20260425T203425Z-7452982345827630527@eventfrog.ch
DTSTAMP:20260425T203425Z
DTSTART:20260426T090000Z
DTEND:20260426T150000Z
SUMMARY:Traum in Tüten Trödel 9.0
DESCRIPTION:Der Trödel ist eine Eventreihe von Traum in Tüten für die Community. Die Boutique wird an diesem Tag komplett umgeräumt und die Neuware wird durch die je 5 Lieblingsteile der Kundinnen ersetzt. \n\nhttps://eventfrog.ch/de/p/maerkte/flohmarkt/traum-in-tueten-troedel-9-0-7452982345827630527.html
LOCATION:Traum in Tüten
GEO:51.436800;7.007722
URL:https://eventfrog.ch/de/p/maerkte/flohmarkt/traum-in-tueten-troedel-9-0-7452982345827630527.html
END:VEVENT
END:VCALENDAR