BEGIN:VCALENDAR
VERSION:2.0
PRODID:EVENTFROG//EVENT//ICAL
BEGIN:VEVENT
UID:20260424T075630Z-7452994838276929995@eventfrog.ch
DTSTAMP:20260424T075630Z
DTSTART:20260516T150000Z
DTEND:20260516T210000Z
SUMMARY:CEFL Viertelfinal Calanda Broncos  vs Badalona Dracs
DESCRIPTION:Die Calanda Broncos empfangen den Spanischen Vize-Meister, die Badalona Dracs, zum Europacup Viertelfinal an der Oberen Au in Chur. Mit Liveband "Soulstorm" und Barbetrieb.\n\nhttps://eventfrog.ch/de/p/sport-fitness/american-football/cefl-viertelfinal-calanda-broncos-vs-badalona-dracs-7452994838276929995.html
LOCATION:Sportanlagen Obere Au Chur
GEO:46.858740;9.505909
URL:https://eventfrog.ch/de/p/sport-fitness/american-football/cefl-viertelfinal-calanda-broncos-vs-badalona-dracs-7452994838276929995.html
END:VEVENT
END:VCALENDAR