BEGIN:VCALENDAR
VERSION:2.0
PRODID:EVENTFROG//EVENT//ICAL
BEGIN:VEVENT
UID:20260424T075643Z-7453000892201070709@eventfrog.ch
DTSTAMP:20260424T075643Z
DTSTART:20260501T150000Z
DTEND:20260531T160000Z
SUMMARY:Musikalischer Abendgottesdienst
DESCRIPTION:Am 31. Mai 2026 singt Pino Gasparini im Musik-Gottesdienst der Reformierten Kirche Schlieren Lieder von Udo Jürgens.\n\nhttps://eventfrog.ch/de/p/konzerte/schlager-volksmusik/musikalischer-abendgottesdienst-7453000892201070709.html
LOCATION:Reformierte Kirche
GEO:47.396500;8.446009
URL:https://eventfrog.ch/de/p/konzerte/schlager-volksmusik/musikalischer-abendgottesdienst-7453000892201070709.html
END:VEVENT
END:VCALENDAR