BEGIN:VCALENDAR
VERSION:2.0
PRODID:EVENTFROG//EVENT//ICAL
BEGIN:VEVENT
UID:20260424T073654Z-7453003563180023806@eventfrog.ch
DTSTAMP:20260424T073654Z
DTSTART:20260830T130000Z
DTEND:20260830T160000Z
SUMMARY:Inner Harmony Retreat – Self-Retreat am Sonntagnachmittag
DESCRIPTION:Ein Self-Retreat am Sonntagnachmittag  in der magischen Yoga Scheune mit Yoga, Breathwork und Kakao-Zeremonie. Dieser Raum lädt dich ein, Körper, Geist und Seele wieder bewusst zu verbinden. \n\nhttps://eventfrog.ch/de/p/gesundheit-spiritualitaet/gesundheit-wohlbefinden/inner-harmony-retreat-self-retreat-am-sonntagnachmittag-7453003563180023806.html
LOCATION:Yoga Scheune
GEO:47.273671;8.640891
URL:https://eventfrog.ch/de/p/gesundheit-spiritualitaet/gesundheit-wohlbefinden/inner-harmony-retreat-self-retreat-am-sonntagnachmittag-7453003563180023806.html
END:VEVENT
END:VCALENDAR