BEGIN:VCALENDAR
VERSION:2.0
PRODID:EVENTFROG//EVENT//ICAL
BEGIN:VEVENT
UID:20260424T063616Z-7453010019069473142@eventfrog.ch
DTSTAMP:20260424T063616Z
DTSTART:20260503T150000Z
DTEND:20260503T161500Z
SUMMARY:Chorkonzert "Vom Petersdom nach Thun"
DESCRIPTION:Projektchor der katholischen Kirche Thun. 83 Mitwirkende präsentieren 18 klassische Chorwerke Ihrer Konzerte im Petersdom, Vatikan und an den Osterfeiern in Thun. Eintritt frei, Kollekte.\n\nhttps://eventfrog.ch/de/p/konzerte/chor/chorkonzert-vom-petersdom-nach-thun-7453010019069473142.html
LOCATION:Online-Event
URL:https://eventfrog.ch/de/p/konzerte/chor/chorkonzert-vom-petersdom-nach-thun-7453010019069473142.html
END:VEVENT
END:VCALENDAR