BEGIN:VCALENDAR
VERSION:2.0
PRODID:EVENTFROG//EVENT//ICAL
BEGIN:VEVENT
UID:20260425T204317Z-7453015778465427144@eventfrog.ch
DTSTAMP:20260425T204317Z
DTSTART:20261123T080000Z
DTEND:20261127T150000Z
SUMMARY:Yoga Basics & Burnout Prävention Bildungszeit
DESCRIPTION:In 5 Tagen lernen Arbeitnehmende Yoga und Meditation zur Stressreduktion und Gesundheitsförderung im Berufsalltag.\n\nhttps://eventfrog.ch/de/p/sport-fitness/yoga/yoga-basics-burnout-praevention-bildungszeit-7453015778465427144.html
LOCATION:Yoga Labor Berlin
GEO:52.462984;13.509339
URL:https://eventfrog.ch/de/p/sport-fitness/yoga/yoga-basics-burnout-praevention-bildungszeit-7453015778465427144.html
END:VEVENT
END:VCALENDAR