BEGIN:VCALENDAR
VERSION:2.0
PRODID:EVENTFROG//EVENT//ICAL
BEGIN:VEVENT
UID:20260424T075629Z-7453045372878866505@eventfrog.ch
DTSTAMP:20260424T075629Z
DTSTART:20260601T120000Z
DTEND:20260601T150000Z
SUMMARY:KI-Entdeckungsreise für ältere Einsteigerinnen und Einsteige
DESCRIPTION:Künstliche Intelligenz im Alltag und im Alter bewusst, sicher und gekonnt einsetzen\n\nhttps://eventfrog.ch/de/p/kurse-seminare/computer-edv/ki-entdeckungsreise-fuer-aeltere-einsteigerinnen-und-einsteige-7453045372878866505.html
LOCATION:OST Ostschweizer Fachhochschule, Campus St.Gallen
GEO:47.423285;9.367650
URL:https://eventfrog.ch/de/p/kurse-seminare/computer-edv/ki-entdeckungsreise-fuer-aeltere-einsteigerinnen-und-einsteige-7453045372878866505.html
END:VEVENT
END:VCALENDAR