BEGIN:VCALENDAR
VERSION:2.0
PRODID:EVENTFROG//EVENT//ICAL
BEGIN:VEVENT
UID:20260425T103217Z-7453049474572666376@eventfrog.ch
DTSTAMP:20260425T103217Z
DTSTART:20260530T180000Z
SUMMARY:Jahreskonzert Akkordeon-Orchester Zug-Baar
DESCRIPTION:89. Jahreskonzert\n\nhttps://eventfrog.ch/de/p/konzerte/offene-buehne/jahreskonzert-akkordeon-orchester-zug-baar-7453049474572666376.html
LOCATION:Gemeindesaal Baar
GEO:47.195322;8.527517
URL:https://eventfrog.ch/de/p/konzerte/offene-buehne/jahreskonzert-akkordeon-orchester-zug-baar-7453049474572666376.html
END:VEVENT
END:VCALENDAR