BEGIN:VCALENDAR
VERSION:2.0
PRODID:EVENTFROG//EVENT//ICAL
BEGIN:VEVENT
UID:20260425T111331Z-7453066083479617101@eventfrog.ch
DTSTAMP:20260425T111331Z
DTSTART:20260501T200000Z
DTEND:20260502T020000Z
SUMMARY:Fiesta Afro-Latina
DESCRIPTION:El 1 de mayo, fiesta Afro x Latino con DJ Maaf y AuntySha en Flanagan's, Ginebra, de 22h a 4h con música y sorpresas.\n\nhttps://eventfrog.ch/en/p/parties/student-party/fiesta-afro-latina-7453066083479617101.html
LOCATION:Flanagan's
GEO:46.201739;6.145418
URL:https://eventfrog.ch/en/p/parties/student-party/fiesta-afro-latina-7453066083479617101.html
END:VEVENT
END:VCALENDAR