BEGIN:VCALENDAR
VERSION:2.0
PRODID:EVENTFROG//EVENT//ICAL
BEGIN:VEVENT
UID:20260424T051558Z-7453067953409362157@eventfrog.ch
DTSTAMP:20260424T051558Z
DTSTART:20260503T150000Z
DTEND:20260503T160000Z
SUMMARY:Konzert: Vom Petersdom, Vatikan nach Thun
DESCRIPTION:Gemeinschaftschor der Katholischen Kirche Thun lädt zum Konzert ein:\nSONNTAG 3. MAI 2026 17:00 UHR KIRCHE ST. MARTIN\n\nhttps://eventfrog.ch/de/p/konzerte/chor/konzert-vom-petersdom-vatikan-nach-thun-7453067953409362157.html
LOCATION:Katholische Kirche St. Martin
GEO:46.748281;7.615893
URL:https://eventfrog.ch/de/p/konzerte/chor/konzert-vom-petersdom-vatikan-nach-thun-7453067953409362157.html
END:VEVENT
END:VCALENDAR