BEGIN:VCALENDAR
VERSION:2.0
PRODID:EVENTFROG//EVENT//ICAL
BEGIN:VEVENT
UID:20260424T051559Z-7453068029590509148@eventfrog.ch
DTSTAMP:20260424T051559Z
DTSTART:20260910T170000Z
DTEND:20260910T180000Z
SUMMARY:Osteoporose- starke Knochen, stark im Leben
DESCRIPTION:Die Rheumaliga beider Basel lädt zum kostenlosen Vortrag über Osteoporose ein.\n\nhttps://eventfrog.ch/de/p/fuehrungen-vortraege/vortrag/osteoporose-starke-knochen-stark-im-leben-7453068029590509148.html
LOCATION:Nonnenweg 21
GEO:47.557602;7.576407
URL:https://eventfrog.ch/de/p/fuehrungen-vortraege/vortrag/osteoporose-starke-knochen-stark-im-leben-7453068029590509148.html
END:VEVENT
END:VCALENDAR