BEGIN:VCALENDAR
VERSION:2.0
PRODID:EVENTFROG//EVENT//ICAL
BEGIN:VEVENT
UID:20260424T064845Z-7453072677286198418@eventfrog.ch
DTSTAMP:20260424T064845Z
DTSTART:20260430T210000Z
DTEND:20260501T030000Z
SUMMARY:Addiction (vor dem 1. Mai)
DESCRIPTION:HipHop • R&B • Afrobeats • Dancehall • Reggaeton\n\nhttps://eventfrog.ch/de/p/partys/hip-hop-rap/addiction-vor-dem-1-mai-7453072677286198418.html
LOCATION:Kaufleuten Club
GEO:47.371008;8.535925
URL:https://eventfrog.ch/de/p/partys/hip-hop-rap/addiction-vor-dem-1-mai-7453072677286198418.html
END:VEVENT
END:VCALENDAR