BEGIN:VCALENDAR
VERSION:2.0
PRODID:EVENTFROG//EVENT//ICAL
BEGIN:VEVENT
UID:20260424T060817Z-7453089604930915662@eventfrog.ch
DTSTAMP:20260424T060817Z
DTSTART:20260424T193000Z
DTEND:20260424T215500Z
SUMMARY:JIM ADN
DESCRIPTION:Alias Jim Vaudin , est un artisan de la chanson Française ! Chanteur d’utilité publique il nous conte de cœur à cœur des réalités, ses rêves et ses révoltes. \n\nhttps://eventfrog.ch/fr/p/concerts/chanteur-auteur-compositeur/jim-adn-7453089604930915662.html
LOCATION:Ragtime Jazz Club
GEO:46.199249;6.149310
URL:https://eventfrog.ch/fr/p/concerts/chanteur-auteur-compositeur/jim-adn-7453089604930915662.html
END:VEVENT
END:VCALENDAR