BEGIN:VCALENDAR
VERSION:2.0
PRODID:EVENTFROG//EVENT//ICAL
BEGIN:VEVENT
UID:20260424T075616Z-7453097416440471474@eventfrog.ch
DTSTAMP:20260424T075616Z
DTSTART:20260522T180000Z
DTEND:20260522T200000Z
SUMMARY:English Comedy Night!
DESCRIPTION:English Comedy show including 3 to 4 great comedians!, join us for a fun night of comedy in Luzern! \n\nhttps://eventfrog.ch/de/p/theater-buehne/comedy-kabarett/english-comedy-night-7453097416440471474.html
LOCATION:GEWERBEHALLE
GEO:47.053488;8.294621
URL:https://eventfrog.ch/de/p/theater-buehne/comedy-kabarett/english-comedy-night-7453097416440471474.html
END:VEVENT
END:VCALENDAR