BEGIN:VCALENDAR
VERSION:2.0
PRODID:EVENTFROG//EVENT//ICAL
BEGIN:VEVENT
UID:20260424T064909Z-7453106149845393443@eventfrog.ch
DTSTAMP:20260424T064909Z
DTSTART:20260516T210000Z
DTEND:20260517T020000Z
SUMMARY:Loco House
DESCRIPTION:Latin house all night long\n\nhttps://eventfrog.ch/de/p/partys/latin-brasil/loco-house-7453106149845393443.html
LOCATION:Kaufleuten Club
GEO:47.371008;8.535925
URL:https://eventfrog.ch/de/p/partys/latin-brasil/loco-house-7453106149845393443.html
END:VEVENT
END:VCALENDAR