BEGIN:VCALENDAR
VERSION:2.0
PRODID:EVENTFROG//EVENT//ICAL
BEGIN:VEVENT
UID:20260424T072139Z-7453200236011373622@eventfrog.ch
DTSTAMP:20260424T072139Z
DTSTART:20260507T220000Z
DTEND:20260705T215900Z
SUMMARY:Not not utopia
DESCRIPTION:Not not utopia\n\nhttps://eventfrog.ch/de/p/kunst-ausstellungen/not-not-utopia-7453200236011373622.html
LOCATION:oxyd – Kunsträume
GEO:47.498011;8.722655
URL:https://eventfrog.ch/de/p/kunst-ausstellungen/not-not-utopia-7453200236011373622.html
END:VEVENT
END:VCALENDAR