BEGIN:VCALENDAR
VERSION:2.0
PRODID:EVENTFROG//EVENT//ICAL
BEGIN:VEVENT
UID:20260424T064911Z-7453202034730263835@eventfrog.ch
DTSTAMP:20260424T064911Z
DTSTART:20260905T120000Z
DTEND:20260905T140000Z
SUMMARY:Stadtführung
DESCRIPTION:Geführter Spaziergang durch die Geschichte der Stadt Gossau.\n\nhttps://eventfrog.ch/de/p/wissenschaft-und-technik/stadtfuehrung-7453202034730263835.html
LOCATION:Gossau
GEO:47.417359;9.259289
URL:https://eventfrog.ch/de/p/wissenschaft-und-technik/stadtfuehrung-7453202034730263835.html
END:VEVENT
END:VCALENDAR