BEGIN:VCALENDAR
VERSION:2.0
PRODID:EVENTFROG//EVENT//ICAL
BEGIN:VEVENT
UID:20260425T104909Z-7453350446175886870@eventfrog.ch
DTSTAMP:20260425T104909Z
DTSTART:20260429T160000Z
DTEND:20260429T173000Z
SUMMARY:Schnuppertraining Tennis Erwachsene Romanshorn
DESCRIPTION:Schnuppertraining Tennis\n\nJetzt anmelden – Plätze begrenzt!\n\nhttps://eventfrog.ch/de/p/sport-fitness/tennis/schnuppertraining-tennis-erwachsene-romanshorn-7453350446175886870.html
LOCATION:Tennisclub Romanshorn
GEO:47.572792;9.375279
URL:https://eventfrog.ch/de/p/sport-fitness/tennis/schnuppertraining-tennis-erwachsene-romanshorn-7453350446175886870.html
END:VEVENT
END:VCALENDAR